BEGIN:VCALENDAR
VERSION:2.0
PRODID:Macedonia, OH Calendar Creator
METHOD:PUBLISH
BEGIN:VEVENT
DTSTAMP:20260408T161337
DTSTART:20260516T090000
DTEND:20260517T150000
SUMMARY:City-Wide Garage Sale
DESCRIPTION:<p>Saturday &amp; Sunday, May 16 &amp; 17, 2026</p><p>9am - 3 pm each day</p><p>Those who wish to participate in the Macedonia City-Wide Garage Sale should register their address by May 11. A map of all participating locations will be published on our social media and website Friday, May 15.</p>
X-ALT-DESC;FMTTYPE=text/html:<p>Saturday &amp; Sunday, May 16 &amp; 17, 2026</p><p>9am - 3 pm each day</p><p>Those who wish to participate in the Macedonia City-Wide Garage Sale should register their address by May 11. A map of all participating locations will be published on our social media and website Friday, May 15.</p>
LOCATION:
CLASS:PUBLIC
END:VEVENT
END:VCALENDAR
