BEGIN:VCALENDAR
VERSION:2.0
PRODID:Macedonia, OH Calendar Creator
METHOD:PUBLISH
BEGIN:VEVENT
DTSTAMP:20260408T154243
DTSTART:20260528T170000
DTEND:20260528T193000
SUMMARY:Food Truck Thursdays
DESCRIPTION:<p>Grab dinner tonight at the Mac Rec from 5-7:30 p.m. for Food Truck Thursdays! Held the last Thursday of each month from April through August. Parking lot of the Macedonia Recreation Center.&nbsp;</p><p></p>
X-ALT-DESC;FMTTYPE=text/html:<p>Grab dinner tonight at the Mac Rec from 5-7:30 p.m. for Food Truck Thursdays! Held the last Thursday of each month from April through August. Parking lot of the Macedonia Recreation Center.&nbsp;</p><p></p>
LOCATION:Recreation Center\, 1494 East Aurora Rd Macedonia\, Ohio 44056
CLASS:PUBLIC
END:VEVENT
END:VCALENDAR
