BEGIN:VCALENDAR
VERSION:2.0
PRODID:Macedonia, OH Calendar Creator
METHOD:PUBLISH
BEGIN:VEVENT
DTSTAMP:20260225T113821
DTSTART:20260415T180000
DTEND:20260415T190000
SUMMARY:Parks and Recreation Commission Meeting
DESCRIPTION:<p>The Parks and Recreation Commission will evaluate projects pertaining to the Parks and Recreation Department on a monthly basis.</p><p>View meeting materials in our&nbsp;<a href="https://www.macedonia.oh.us/MacedoniaOH6/?navid=195">Meeting Portal</a>.</p>
X-ALT-DESC;FMTTYPE=text/html:<p>The Parks and Recreation Commission will evaluate projects pertaining to the Parks and Recreation Department on a monthly basis.</p><p>View meeting materials in our&nbsp;<a href="https://www.macedonia.oh.us/MacedoniaOH6/?navid=195">Meeting Portal</a>.</p>
LOCATION:Recreation Center\, 1494 East Aurora Rd Macedonia\, Ohio 44056
CLASS:PUBLIC
END:VEVENT
END:VCALENDAR
