BEGIN:VCALENDAR
VERSION:2.0
PRODID:Macedonia, OH Calendar Creator
METHOD:PUBLISH
BEGIN:VEVENT
DTSTAMP:20260129T132533
DTSTART:20260403T000000
DTEND:20260403T235900
SUMMARY:City of Macedonia Offices Closed for Good Friday
DESCRIPTION:<p>City of Macedonia Offices Closed April 3 for Good Friday.</p><p>Trash and recycling pickup by Kimble are&nbsp;NOT&nbsp;impacted by the holiday.</p>
X-ALT-DESC;FMTTYPE=text/html:<p>City of Macedonia Offices Closed April 3 for Good Friday.</p><p>Trash and recycling pickup by Kimble are&nbsp;NOT&nbsp;impacted by the holiday.</p>
LOCATION:
CLASS:PUBLIC
END:VEVENT
END:VCALENDAR
