BEGIN:VCALENDAR
VERSION:2.0
PRODID:Macedonia, OH Calendar Creator
METHOD:PUBLISH
BEGIN:VEVENT
DTSTAMP:20251117T090501
DTSTART:20260423T191500
DTEND:20260423T193000
SUMMARY:City Council Work Session
DESCRIPTION:<p>The Council Work session is held prior to the City Council Meeting. This is where the City Council Members will evaluate legislation in order to decide if it needs changed or if it is acceptable. This meeting is open to the public.</p><p><strong>Organizer</strong>:</p><p>Clerk of Council<br><a href="mailto:&#99;&#111;&#117;&#110;&#99;&#105;&#108;&#99;&#108;&#101;&#114;&#107;&#64;&#109;&#97;&#99;&#101;&#100;&#111;&#110;&#105;&#97;&#46;&#111;&#104;&#46;&#117;&#115;">councilclerk@macedonia.oh.us</a></p>
X-ALT-DESC;FMTTYPE=text/html:<p>The Council Work session is held prior to the City Council Meeting. This is where the City Council Members will evaluate legislation in order to decide if it needs changed or if it is acceptable. This meeting is open to the public.</p><p><strong>Organizer</strong>:</p><p>Clerk of Council<br><a href="mailto:&#99;&#111;&#117;&#110;&#99;&#105;&#108;&#99;&#108;&#101;&#114;&#107;&#64;&#109;&#97;&#99;&#101;&#100;&#111;&#110;&#105;&#97;&#46;&#111;&#104;&#46;&#117;&#115;">councilclerk@macedonia.oh.us</a></p>
LOCATION:City Hall\, 9691 Valley View Rd. Macedonia\, Ohio 44056
CLASS:PUBLIC
END:VEVENT
END:VCALENDAR
